BEGIN:VCALENDAR
VERSION:2.0
PRODID:-//Sabre//Sabre VObject 4.5.8//EN
CALSCALE:GREGORIAN
BEGIN:VEVENT
UID:sabre-vobject-6260015a-debd-4de7-a126-c95f0fd7b83f
DTSTAMP:20260425T103243Z
SUMMARY:Resiliency of Men (R.O.M.)
DESCRIPTION:Resiliency of Men
X-ALT-DESC:FMTTYPE=text/html:<!DOCTYPE HTML PUBLIC "-//W3C//DTD HTML 3.2//E
 N"><HTML>Resiliency of Men</HTML>
CREATED;TZID=America/New_York:20170913T134415
URL;VALUE=URI:https://meade.armymwr.com/calendar/event
DTSTART;TZID=America/New_York:20161130T130000
DTEND;TZID=America/New_York:20161130T143000
SEQUENCE:0
END:VEVENT
END:VCALENDAR
