BEGIN:VCALENDAR
VERSION:2.0
PRODID:-//Sabre//Sabre VObject 4.5.8//EN
CALSCALE:GREGORIAN
BEGIN:VEVENT
UID:sabre-vobject-ffc7dd18-7850-4162-b62b-b3f35c8dd586
DTSTAMP:20260425T103242Z
SUMMARY:Interviewing Skills
DESCRIPTION:Interviewing skills class
X-ALT-DESC:FMTTYPE=text/html:<!DOCTYPE HTML PUBLIC "-//W3C//DTD HTML 3.2//E
 N"><HTML>Interviewing skills class</HTML>
CREATED;TZID=America/New_York:20170913T134415
URL;VALUE=URI:https://meade.armymwr.com/calendar/event
DTSTART;TZID=America/New_York:20161215T090000
DTEND;TZID=America/New_York:20161215T120000
SEQUENCE:0
END:VEVENT
END:VCALENDAR
