BEGIN:VCALENDAR
VERSION:2.0
PRODID:-//Sabre//Sabre VObject 4.5.8//EN
CALSCALE:GREGORIAN
BEGIN:VEVENT
UID:sabre-vobject-c5614d1e-2360-4912-b49c-1d5149a81bdc
DTSTAMP:20260423T080739Z
SUMMARY:10 Steps to a Federal Job
DESCRIPTION:10 steps to a federal job class
X-ALT-DESC:FMTTYPE=text/html:<!DOCTYPE HTML PUBLIC "-//W3C//DTD HTML 3.2//E
 N"><HTML>10 steps to a federal job class</HTML>
CREATED;TZID=America/New_York:20170913T134415
URL;VALUE=URI:https://meade.armymwr.com/calendar/event
DTSTART;TZID=America/New_York:20170209T090000
DTEND;TZID=America/New_York:20170209T113000
SEQUENCE:0
END:VEVENT
END:VCALENDAR
