BEGIN:VCALENDAR
VERSION:2.0
PRODID:-//Sabre//Sabre VObject 4.5.8//EN
CALSCALE:GREGORIAN
BEGIN:VEVENT
UID:sabre-vobject-21d04b83-e0d4-4a15-8da7-713baaffdf58
DTSTAMP:20260421T220812Z
SUMMARY:Getting Out of Debt
DESCRIPTION:Learn how to wipe out that debt!
X-ALT-DESC:FMTTYPE=text/html:<!DOCTYPE HTML PUBLIC "-//W3C//DTD HTML 3.2//E
 N"><HTML>Learn how to wipe out that debt!</HTML>
CREATED;TZID=America/New_York:20170913T134416
URL;VALUE=URI:https://meade.armymwr.com/calendar/event
DTSTART;TZID=America/New_York:20170302T090000
DTEND;TZID=America/New_York:20170302T110000
SEQUENCE:0
END:VEVENT
END:VCALENDAR
