BEGIN:VCALENDAR
VERSION:2.0
PRODID:-//Sabre//Sabre VObject 4.5.8//EN
CALSCALE:GREGORIAN
BEGIN:VEVENT
UID:sabre-vobject-93fbe7f2-d883-4fe1-97b4-8a0f13408b22
DTSTAMP:20260421T220749Z
SUMMARY:Car Buying Strategies
DESCRIPTION:Car buying strategies class
X-ALT-DESC:FMTTYPE=text/html:<!DOCTYPE HTML PUBLIC "-//W3C//DTD HTML 3.2//E
 N"><HTML>Car buying strategies class</HTML>
CREATED;TZID=America/New_York:20170913T134416
URL;VALUE=URI:https://meade.armymwr.com/calendar/event
DTSTART;TZID=America/New_York:20170303T090000
DTEND;TZID=America/New_York:20170303T110000
SEQUENCE:0
END:VEVENT
END:VCALENDAR
