BEGIN:VCALENDAR
VERSION:2.0
PRODID:-//Sabre//Sabre VObject 4.5.8//EN
CALSCALE:GREGORIAN
BEGIN:VEVENT
UID:sabre-vobject-2e70d17e-b0e5-4bcb-8e9c-68d0069f6a14
DTSTAMP:20260419T180817Z
SUMMARY:Right Arm Night
DESCRIPTION:Food\, Fun\, Prizes and Camaraderie
X-ALT-DESC:FMTTYPE=text/html:<!DOCTYPE HTML PUBLIC "-//W3C//DTD HTML 3.2//E
 N"><HTML>Food\, Fun\, Prizes and Camaraderie</HTML>
CREATED;TZID=America/New_York:20170913T134416
URL;VALUE=URI:https://meade.armymwr.com/calendar/event
DTSTART;TZID=America/New_York:20170316T160000
DTEND;TZID=America/New_York:20170316T180000
SEQUENCE:0
END:VEVENT
END:VCALENDAR
