BEGIN:VCALENDAR
VERSION:2.0
PRODID:-//Sabre//Sabre VObject 4.5.8//EN
CALSCALE:GREGORIAN
BEGIN:VEVENT
UID:sabre-vobject-2b61946b-c2da-4b77-a97c-62439fea9475
DTSTAMP:20260419T180818Z
SUMMARY:Babease Boot Camp
DESCRIPTION:New Parent Support Program
X-ALT-DESC:FMTTYPE=text/html:<!DOCTYPE HTML PUBLIC "-//W3C//DTD HTML 3.2//E
 N"><HTML>New Parent Support Program</HTML>
CREATED;TZID=America/New_York:20170913T134416
URL;VALUE=URI:https://meade.armymwr.com/calendar/event
DTSTART;TZID=America/New_York:20170317T083000
DTEND;TZID=America/New_York:20170317T153000
SEQUENCE:0
END:VEVENT
END:VCALENDAR
