BEGIN:VCALENDAR
VERSION:2.0
PRODID:-//Sabre//Sabre VObject 4.5.8//EN
CALSCALE:GREGORIAN
BEGIN:VEVENT
UID:sabre-vobject-4d03bf2b-560b-447f-8463-e72c22eddaec
DTSTAMP:20260420T214453Z
SUMMARY:Blended Retirement System (BRS) 
DESCRIPTION:
X-ALT-DESC:FMTTYPE=text/html:<!DOCTYPE HTML PUBLIC "-//W3C//DTD HTML 3.2//E
 N"><HTML></HTML>
CREATED;TZID=America/New_York:20181210T120638
URL;VALUE=URI:https://meade.armymwr.com/calendar/event
DTSTART;TZID=America/New_York:20181127T090000
DTEND;TZID=America/New_York:20181127T110000
SEQUENCE:0
END:VEVENT
BEGIN:VEVENT
UID:sabre-vobject-91250cc6-ea18-41b4-94f2-2304c7538017
DTSTAMP:20260420T214453Z
SUMMARY:Blended Retirement System (BRS) 
DESCRIPTION:
X-ALT-DESC:FMTTYPE=text/html:<!DOCTYPE HTML PUBLIC "-//W3C//DTD HTML 3.2//E
 N"><HTML></HTML>
CREATED;TZID=America/New_York:20181210T120638
URL;VALUE=URI:https://meade.armymwr.com/calendar/event
DTSTART;TZID=America/New_York:20181211T090000
DTEND;TZID=America/New_York:20181211T110000
SEQUENCE:1
END:VEVENT
BEGIN:VEVENT
UID:sabre-vobject-ecebb3e9-0b13-43ef-82b7-6f4d7dc0232c
DTSTAMP:20260420T214453Z
SUMMARY:Blended Retirement System (BRS) 
DESCRIPTION:
X-ALT-DESC:FMTTYPE=text/html:<!DOCTYPE HTML PUBLIC "-//W3C//DTD HTML 3.2//E
 N"><HTML></HTML>
CREATED;TZID=America/New_York:20181210T120638
URL;VALUE=URI:https://meade.armymwr.com/calendar/event
DTSTART;TZID=America/New_York:20181218T090000
DTEND;TZID=America/New_York:20181218T110000
SEQUENCE:2
END:VEVENT
END:VCALENDAR
