BEGIN:VCALENDAR
VERSION:2.0
PRODID:-//Sabre//Sabre VObject 4.5.8//EN
CALSCALE:GREGORIAN
BEGIN:VEVENT
UID:sabre-vobject-2f6108fc-3834-4913-a621-990edb8a9066
DTSTAMP:20260425T005313Z
SUMMARY:Job Fair
DESCRIPTION:
X-ALT-DESC:FMTTYPE=text/html:<!DOCTYPE HTML PUBLIC "-//W3C//DTD HTML 3.2//E
 N"><HTML></HTML>
CREATED;TZID=America/New_York:20260408T093434
URL;VALUE=URI:https://meade.armymwr.com/calendar/event
DTSTART;TZID=America/New_York:20261118T100000
DTEND;TZID=America/New_York:20261118T140000
SEQUENCE:0
END:VEVENT
BEGIN:VEVENT
UID:sabre-vobject-78827360-f982-4b16-8f43-f17cc70884d3
DTSTAMP:20260425T005313Z
SUMMARY:Job Fair
DESCRIPTION:
X-ALT-DESC:FMTTYPE=text/html:<!DOCTYPE HTML PUBLIC "-//W3C//DTD HTML 3.2//E
 N"><HTML></HTML>
CREATED;TZID=America/New_York:20260408T093434
URL;VALUE=URI:https://meade.armymwr.com/calendar/event
DTSTART;TZID=America/New_York:20260318T100000
DTEND;TZID=America/New_York:20260318T140000
SEQUENCE:1
END:VEVENT
BEGIN:VEVENT
UID:sabre-vobject-82292a0a-d75a-4a74-a650-7a35510de293
DTSTAMP:20260425T005313Z
SUMMARY:Job Fair
DESCRIPTION:
X-ALT-DESC:FMTTYPE=text/html:<!DOCTYPE HTML PUBLIC "-//W3C//DTD HTML 3.2//E
 N"><HTML></HTML>
CREATED;TZID=America/New_York:20260408T093434
URL;VALUE=URI:https://meade.armymwr.com/calendar/event
DTSTART;TZID=America/New_York:20260520T100000
DTEND;TZID=America/New_York:20260520T140000
SEQUENCE:2
END:VEVENT
BEGIN:VEVENT
UID:sabre-vobject-ad7cfb7e-d437-4b35-894c-708d647d0966
DTSTAMP:20260425T005313Z
SUMMARY:Job Fair
DESCRIPTION:
X-ALT-DESC:FMTTYPE=text/html:<!DOCTYPE HTML PUBLIC "-//W3C//DTD HTML 3.2//E
 N"><HTML></HTML>
CREATED;TZID=America/New_York:20260408T093434
URL;VALUE=URI:https://meade.armymwr.com/calendar/event
DTSTART;TZID=America/New_York:20260916T100000
DTEND;TZID=America/New_York:20260916T140000
SEQUENCE:3
END:VEVENT
END:VCALENDAR
